BEGIN:VCALENDAR
VERSION:2.0
PRODID:-//Philadanco - ECPv6.15.3//NONSGML v1.0//EN
CALSCALE:GREGORIAN
METHOD:PUBLISH
X-ORIGINAL-URL:https://philadanco.org
X-WR-CALDESC:Events for Philadanco
REFRESH-INTERVAL;VALUE=DURATION:PT1H
X-Robots-Tag:noindex
X-PUBLISHED-TTL:PT1H
BEGIN:VTIMEZONE
TZID:America/New_York
BEGIN:DAYLIGHT
TZOFFSETFROM:-0500
TZOFFSETTO:-0400
TZNAME:EDT
DTSTART:20200308T070000
END:DAYLIGHT
BEGIN:STANDARD
TZOFFSETFROM:-0400
TZOFFSETTO:-0500
TZNAME:EST
DTSTART:20201101T060000
END:STANDARD
BEGIN:DAYLIGHT
TZOFFSETFROM:-0500
TZOFFSETTO:-0400
TZNAME:EDT
DTSTART:20210314T070000
END:DAYLIGHT
BEGIN:STANDARD
TZOFFSETFROM:-0400
TZOFFSETTO:-0500
TZNAME:EST
DTSTART:20211107T060000
END:STANDARD
BEGIN:DAYLIGHT
TZOFFSETFROM:-0500
TZOFFSETTO:-0400
TZNAME:EDT
DTSTART:20220313T070000
END:DAYLIGHT
BEGIN:STANDARD
TZOFFSETFROM:-0400
TZOFFSETTO:-0500
TZNAME:EST
DTSTART:20221106T060000
END:STANDARD
BEGIN:DAYLIGHT
TZOFFSETFROM:-0500
TZOFFSETTO:-0400
TZNAME:EDT
DTSTART:20230312T070000
END:DAYLIGHT
BEGIN:STANDARD
TZOFFSETFROM:-0400
TZOFFSETTO:-0500
TZNAME:EST
DTSTART:20231105T060000
END:STANDARD
BEGIN:DAYLIGHT
TZOFFSETFROM:-0500
TZOFFSETTO:-0400
TZNAME:EDT
DTSTART:20240310T070000
END:DAYLIGHT
BEGIN:STANDARD
TZOFFSETFROM:-0400
TZOFFSETTO:-0500
TZNAME:EST
DTSTART:20241103T060000
END:STANDARD
BEGIN:DAYLIGHT
TZOFFSETFROM:-0500
TZOFFSETTO:-0400
TZNAME:EDT
DTSTART:20250309T070000
END:DAYLIGHT
BEGIN:STANDARD
TZOFFSETFROM:-0400
TZOFFSETTO:-0500
TZNAME:EST
DTSTART:20251102T060000
END:STANDARD
BEGIN:DAYLIGHT
TZOFFSETFROM:-0500
TZOFFSETTO:-0400
TZNAME:EDT
DTSTART:20260308T070000
END:DAYLIGHT
BEGIN:STANDARD
TZOFFSETFROM:-0400
TZOFFSETTO:-0500
TZNAME:EST
DTSTART:20261101T060000
END:STANDARD
END:VTIMEZONE
BEGIN:VEVENT
DTSTART;TZID=America/New_York:20260111T120000
DTEND;TZID=America/New_York:20260111T140000
DTSTAMP:20260423T075925
CREATED:20231127T180546Z
LAST-MODIFIED:20260103T181404Z
UID:2289-1768132800-1768140000@philadanco.org
SUMMARY:D/2 Apprentice Company Auditions 2026
DESCRIPTION:Training Program: Through concentrated programming designed to move young emerging dancers forward on their dance career paths\, PHILADANCO‘s Instruction and Training Program has two primary skills development and performing opportunities for youth with vary levels of aptitude who have demonstrated their desire for a professional career in dance. These classes along with their regular access to training have produced a steady flow of well trained and experience artists. \nD/2 (Danco 2) 2nd Company of PHILADANCO – Artistic Director Donald Lunsford\nForeseeing the need to cultivate young aspiring dancers (ages 16-23) who show promise of continuing towards a professional dance career\, PHILADANCO created the Danco 2 (D/2) Apprentice Company. Through an extensive evaluation process\, members of D/2 are selected and are then trained in professional level classes. D/2 performs locally and in the surrounding counties about 25 times a year and is featured in the annual Danco on Danco concert. \nD/2 (PHILADANCO’s 2nd Company)  \n\nForeseeing the need to cultivate young aspiring dancers (16-23)\, who show promise of continuing towards a professional dance career. PHILADANCO created the Danco 2 (D/2) Second Company of PHILADANCO. Through an extensive evaluation process\, members of D/2 are selected and are then trained in professional level classes. D/2 performs locally and in the surrounding counties about 25 times a year and is featured in the annual Danco On Danco performance. \nPlease pay $15 cash fee in person the day of audition
URL:https://philadanco.org/event/d-2-apprentice-company-auditions/
CATEGORIES:Auditions,Class,Other,Performances,Summer Intensive
END:VEVENT
BEGIN:VEVENT
DTSTART;TZID=America/New_York:20260111T110000
DTEND;TZID=America/New_York:20260111T120000
DTSTAMP:20260423T075925
CREATED:20260105T201442Z
LAST-MODIFIED:20260105T201458Z
UID:2826-1768129200-1768132800@philadanco.org
SUMMARY:O'Shae Sibley Scholarship Audition 2026
DESCRIPTION:
URL:https://philadanco.org/event/oshae-sibley-scholarship-audition-2026/
CATEGORIES:Auditions,Class,Community event,Other,Touring
END:VEVENT
BEGIN:VEVENT
DTSTART;TZID=America/New_York:20251116T150000
DTEND;TZID=America/New_York:20251116T180000
DTSTAMP:20260423T075925
CREATED:20250909T183214Z
LAST-MODIFIED:20251107T033807Z
UID:2740-1763305200-1763316000@philadanco.org
SUMMARY:The Joanies 2025
DESCRIPTION:The Joanie Awards are named in honor of Joan Myers Brown \nand recognize individuals and organizations that create\, support\, and advance dance in keeping with JB’s tireless and innovative spirit. \nBoard members\, PHILADANCO! company members and staff\, and supporters will join awardees and their family and friends to celebrate the Joanie Awardees. \nThere will also be performances by D3\, D2 and PHILADANCO! \nMore info on our honorees will be announced soon!
URL:https://philadanco.org/event/the-joanies-2025/
CATEGORIES:Class,Community event,Fundraising,Other,Performances
ATTACH;FMTTYPE=image/jpeg:https://philadanco.org/wp-content/uploads/2025/09/unnamed.jpg
END:VEVENT
BEGIN:VEVENT
DTSTART;TZID=America/New_York:20250930T080000
DTEND;TZID=America/New_York:20251021T170000
DTSTAMP:20260423T075925
CREATED:20250818T164328Z
LAST-MODIFIED:20250930T163516Z
UID:2708-1759219200-1761066000@philadanco.org
SUMMARY:European Tour !
DESCRIPTION:PHILADANCO (The Philadelphia Dance Company) performs in Germany\, with past and upcoming dates including performances in Lünen\, Leverkusen\, and Offenburg in October 2025. The company has toured Germany extensively\, bringing their blend of classical and contemporary dance to international audiences who may not often see an American dance company.\n \n\n\n\n\nUpcoming Performances\n(Press the hyperlink for ticket information)\n\n\n\nIserlohn\n\nThe Parktheater on Thursday\, October 2\, 2025.\n\n\n\n\n\n\n\n\nLünen:\n\nThe Heinz-Hilpert-Theater on Sunday\, October 5\, 2025. \n\n\n\n\n\n\n\n\n\n\n\n\n\n\n\n\nLeverkusen:\nThe Forum Leverkusen on Tuesday\, October 7\, 2025.\n\n\n\n\n\nViersen\n\nThe Vierfalt – Kultur in Viersen on October 8\, 2025. \n\n\n\nMinden:\n\n          The Stadttheater Minden on Friday\, October 10\, 2025. \n\nWolfsburg\n\nThe Scharoun Theater on October 11\, 2025. \n\nLippstadt\n\nThe stadttheater on Sunday October 12\, 2025 \n\n      Ahaus:\n\n         The Kulturquadrat on Wednesday\, October 15\, 2025. \n\n\n\n\n\nOffenburg:\n\nThe Messe Offenburg on Sunday\, October 19\, 2025. \n\n\n\n\n\n\n\n\n\n\n\n\nHistorical Touring  \n\n\n\n\n\n\n\n\n\n\n\n\n\nPHILADANCO has a long history of international touring\, with founder Joan Myers Brown noting they’ve visited “every little town in Germany”.\nThe international appreciation for their performances is significant\, offering audiences a positive image of African Americans and American dance.\n\n\n\n\n\nWhere to Find Tickets\n\n\n\n\nYou can find tickets for PHILADANCO’s German performances on websites like StubHub and Viagogo.\n\n\nLocations:\n\nIserlohn\, Germany – Thursday\, Oct 2 at 20:00 \nLünen\, Germany – Sunday\, Oct 5 at 17:00 \nLeverkusen\, Germany – Tuesday\, Oct 7 at 19:30 \nViersen\, Germany – Wednesday\, Oct 8 at 20:00 \nHerford\, Germany – Thursday\, Oct 9 at 19:30 \nMinden\, Germany – Friday\, Oct 10 at 20:00 \nWolfsburg\, Germany – Saturday\, Oct 11 at 19:30 \nLippstadt\, Germany – Sunday\, Oct 12 at 19:00 \nOss\, Netherlands – Tuesday\, Oct 14 at 20:15 \nAhaus\, Germany – Wednesday\, Oct 15 at 20:00 \nSaarlouis\, Germany – Friday\, Oct 17 at 20:00 \nVillingen-Schwenningen\, Germany – Saturday\, Oct 18 at 20:00 \nOffenburg\, Germany – Sunday\, Oct 19 at 20:00
URL:https://philadanco.org/event/germany-tour/
CATEGORIES:Class,Community event,Other,Performances,Touring
ATTACH;FMTTYPE=image/webp:https://philadanco.org/wp-content/uploads/2025/08/jharris2245sm-scaled.webp
END:VEVENT
BEGIN:VEVENT
DTSTART;TZID=America/New_York:20250825T080000
DTEND;TZID=America/New_York:20250831T170000
DTSTAMP:20260423T075925
CREATED:20250815T174652Z
LAST-MODIFIED:20250818T172618Z
UID:2692-1756108800-1756659600@philadanco.org
SUMMARY:Carifesta XV | Barbados
DESCRIPTION:PHILADANCO will be performing in Barbados at the Carifesta XV. \nDance at CARIFESTA XV is a powerful expression of Caribbean identity\, bridging past\, present\, and future through movement. Rooted in tradition yet boldly experimental\, the programme features a rich lineup of performances\, workshops\, labs\, and immersive activations designed to engage audiences and artists alike. \n​ \nHighlights include collaborative residencies that foster artistic risk-taking\, cultural exchange\, and new choreographic development; community-centred mobile performances that bring the rhythm of the festival into everyday spaces; and celebratory showcases for emerging youth talent. Signature events will explore environmental themes\, ancestral memory\, innovation\, and intergenerational dialogue. Audiences can also look forward to live dance challenges\, beachside \nperformances\, and symposiums that elevate dancers as thought leaders and visionaries. \nThis dynamic programme invites participants to not only witness the evolution of Caribbean dance but to become a part of it-on the stage\, in the street\, and on the sand.
URL:https://philadanco.org/event/carifesta-xv/
CATEGORIES:Class,Community event,Fundraising,Other,Performances,Touring
ATTACH;FMTTYPE=image/webp:https://philadanco.org/wp-content/uploads/2025/08/Screenshot-2025-08-18-at-1.01.00-PM.webp
END:VEVENT
BEGIN:VEVENT
DTSTART;TZID=America/New_York:20250707T080000
DTEND;TZID=America/New_York:20250815T193000
DTSTAMP:20260423T075925
CREATED:20240422T191329Z
LAST-MODIFIED:20250709T200944Z
UID:2382-1751875200-1755286200@philadanco.org
SUMMARY:Summer Skill Enhancement Series
DESCRIPTION:53nd Annual Acclaimed 6 Week Summer Skill Enhancement Series (16-25)\n\nDates: July 7th -August 15th\, 2025\nThere will be professional training and exposure to world renown instructors each week\, plus interaction from resident artists from PHILADANCO!.* Classes are from 5:30-7pm. (MON. – FRI.)\n\n** $150 PER WEEK or $600 FULL SESSION\n[Program fees due by- Monday\, June 30] Summer Skill Enhancement Series Technique Classes will be:\nWeek 1 | July 7th – July 11th – Rennie Harris – Hip-Hop/House\nWeek 2 | July 14th – 18th – Virginie Mecene – Graham\nJuly 21st – 25th | Alumni Week – Various Styles\nJuly 28th – August 1st| Debra Austin – Ballet\nAugust 4th – August 8th| Milton Myers – Horton Technique\nAugust 11th – August 15th | Amanieya Payne – West African
URL:https://philadanco.org/event/summer-skill-enhancement-series/
CATEGORIES:Class,Community event,Other,Summer Intensive
ATTACH;FMTTYPE=image/jpeg:https://philadanco.org/wp-content/uploads/2024/04/2025-Summer-Intensive-1.jpg
END:VEVENT
BEGIN:VEVENT
DTSTART;TZID=America/New_York:20250629T090000
DTEND;TZID=America/New_York:20250629T215000
DTSTAMP:20260423T075925
CREATED:20250612T143904Z
LAST-MODIFIED:20250627T000629Z
UID:2594-1751187600-1751233800@philadanco.org
SUMMARY:MVMNT Pilates at PHILADANCO!
DESCRIPTION:Join us for MVMNT Pilates at PHILADANCO!✨ Move\, stretch\, and strengthen your body in the heart of West Philly with instructor Ellie Matus.📅 June 29\, 2025🕘 9:00 AM📍 9 N Preston Street\, Philadelphia\, PA 19104💙 Donation-based class (Suggested: $20) — all levels welcome!Scan the QR code to register or visit www.philadanco.org. \nStart your Sunday grounded\, energized\, and connected. Let’s move together! \n#PHILADANCO #PilatesPhilly #MVMNTPilates #WellnessInMotion #WestPhillyFitness #DonationBasedFitness #MoveWithEllie
URL:https://philadanco.org/event/mvmnt-pilates-at-philadanco/
CATEGORIES:Class,Community event,Fundraising,Other
ATTACH;FMTTYPE=image/jpeg:https://philadanco.org/wp-content/uploads/2025/06/2-Movement-Pilates-at-PHILADANCO.jpg
END:VEVENT
BEGIN:VEVENT
DTSTART;TZID=America/New_York:20250110T201000
DTEND;TZID=America/New_York:20250110T205000
DTSTAMP:20260423T075925
CREATED:20241218T210609Z
LAST-MODIFIED:20241223T163903Z
UID:2514-1736539800-1736542200@philadanco.org
SUMMARY:APAP 2025
DESCRIPTION:Philadanco will be doing a performance for APAP 2025 at the Ailey Citigroup Theater (405 W 55th St\, New York\, NY 10019)
URL:https://philadanco.org/event/apap-2025/
CATEGORIES:Class,Community event,Other,Performances,Touring
ATTACH;FMTTYPE=image/jpeg:https://philadanco.org/wp-content/uploads/2024/12/APAP-2025.jpg
END:VEVENT
BEGIN:VEVENT
DTSTART;VALUE=DATE:20240930
DTEND;VALUE=DATE:20241001
DTSTAMP:20260423T075925
CREATED:20240918T191027Z
LAST-MODIFIED:20241104T175234Z
UID:2472-1727654400-1727740799@philadanco.org
SUMMARY:Adult Open Classes
DESCRIPTION:
URL:https://philadanco.org/event/adult-open-classes/
CATEGORIES:Class,Community event,Other
ATTACH;FMTTYPE=image/png:https://philadanco.org/wp-content/uploads/2024/09/Open-Classes.png
END:VEVENT
BEGIN:VEVENT
DTSTART;TZID=America/New_York:20230811T180000
DTEND;TZID=America/New_York:20230811T210000
DTSTAMP:20260423T075925
CREATED:20230515T194839Z
LAST-MODIFIED:20230827T220556Z
UID:2170-1691776800-1691787600@philadanco.org
SUMMARY:Fish 'n' Fry Day
DESCRIPTION:
URL:https://philadanco.org/event/summer-intensive/
CATEGORIES:Class,Community event,Performances,Summer Intensive
ATTACH;FMTTYPE=image/png:https://philadanco.org/wp-content/uploads/2023/05/Philadanco-Studios-9-N-Preston-Street-Philadelphia-PA-19104.png
END:VEVENT
BEGIN:VEVENT
DTSTART;TZID=America/New_York:20230603T120000
DTEND;TZID=America/New_York:20230603T140000
DTSTAMP:20260423T075925
CREATED:20230630T152521Z
LAST-MODIFIED:20230630T152521Z
UID:2196-1685793600-1685800800@philadanco.org
SUMMARY:Danco Out of Doors - June
DESCRIPTION:DANCO\nOUT-OF-DOORS \nCommunity Movement & Dance Class \nSaturday\, June 3rd at 12 noon\n(Weather Permitting) \nDonation Based (what you can give) \nBring water\, and a towel\, and wear dance or\nsportswear\, and sneakers \nRaindate: 6/10/23 \n9 N. PRESTON STREET\nClasses will take place in\nour parking lot area\nbehind the building \n 
URL:https://philadanco.org/event/danco-out-of-doors-june/
CATEGORIES:Class,Community event,Other
END:VEVENT
BEGIN:VEVENT
DTSTART;TZID=America/New_York:20210613T120000
DTEND;TZID=America/New_York:20210613T170000
DTSTAMP:20260423T075925
CREATED:20210419T213855Z
LAST-MODIFIED:20210602T161211Z
UID:1374-1623585600-1623603600@philadanco.org
SUMMARY:Philadanco! Audition
DESCRIPTION:Virtual Auditions: \nDate: June 13\, 2021 \nFor Danco 2 and Summer Program @ 12pm (16-23) and Philadanco @ 2pm (18 & Up) \nAudition Fee: $10 \nJULY 19- AUGUST 13\, 2021 \n$150.00 PER WEEK \n$575.75 FULL SESSION \nFOR MORE INFORMATION LOOK AT THE FLYER OR CALL 215-378-8200 \n  \n 
URL:https://philadanco.org/event/philadanco-audition/
CATEGORIES:Auditions,Class,Other,Performances
ATTACH;FMTTYPE=application/pdf:https://philadanco.org/wp-content/uploads/2021/04/summer-audition-flyer-2021-1.pdf
END:VEVENT
BEGIN:VEVENT
DTSTART;TZID=America/New_York:20210327T163000
DTEND;TZID=America/New_York:20210330T203000
DTSTAMP:20260423T075925
CREATED:20210326T164903Z
LAST-MODIFIED:20210326T164903Z
UID:1365-1616862600-1617136200@philadanco.org
SUMMARY:Philadanco! Presents Our Spring Masterclass Series!!!
DESCRIPTION:Start your spring off right by taking OPEN ClASS with the COMPANY from these amazing artist. \nSpring Masterclass Series Featuring: \nTracy Vogt teaching Graham technique on Saturday March 27 @ 4:30pm – 6pm \nChristopher L. Huggins teaching Jazz on Sunday March 28 @ 12pm – 1:30pm \nZane Booker teaching Ballet on Tuesday March 30 @ 7pm – 8:30pm \nCome take open company classes via ZOOM \nCost: $10 Per Class via CASH APP: $PHILADANCO \n**PLEASE LEAVE YOUR EMAIL IN THE CASHAPP NOTES TO RECEIVE YOUR ZOOM LINK
URL:https://philadanco.org/event/philadanco-presents-our-spring-masterclass-series/
CATEGORIES:Class,Other
ATTACH;FMTTYPE=image/jpeg:https://philadanco.org/wp-content/uploads/2021/03/IMG_7717.jpg
END:VEVENT
BEGIN:VEVENT
DTSTART;TZID=America/New_York:20201221T190000
DTEND;TZID=America/New_York:20201221T203000
DTSTAMP:20260423T075925
CREATED:20201220T194745Z
LAST-MODIFIED:20201220T194858Z
UID:1304-1608577200-1608582600@philadanco.org
SUMMARY:Back by Popular Demand!!!
DESCRIPTION:Presenting Another Holiday Treat!!! \nOpen Company Master Class with: CHRISTOPHER HUGGINS!!  \nMONDAY DECEMBER 21ST 7:00 TO 8:30PM VIA ZOOM \n$10 CASHAPP/ $PHILADANCO \nPLEASE LEAVE YOUR EMAIL IN THE CASHAPP NOTES TO RECEIVE YOUR ZOOM LINK \n 
URL:https://philadanco.org/event/back-by-popular-demand/
CATEGORIES:Class,Other
ATTACH;FMTTYPE=image/jpeg:https://philadanco.org/wp-content/uploads/2020/12/D86E1674-.jpg
END:VEVENT
BEGIN:VEVENT
DTSTART;TZID=America/New_York:20201216T190000
DTEND;TZID=America/New_York:20201216T203000
DTSTAMP:20260423T075925
CREATED:20201215T140241Z
LAST-MODIFIED:20201220T195008Z
UID:1295-1608145200-1608150600@philadanco.org
SUMMARY:Philadanco! Holiday Treat!!!
DESCRIPTION:Come take an OPEN COMPANY MASTER CLASS with the Amazing Zane Booker as an other holiday treat to end the 2020 year. It will be $10.00 via CASHAPP: $Philadanco and PLEASE  put your EMAIL in the CashApp note so we can send you the link via ZOOM. \nZane Booker\n(Former Company member with Philadanco\, Zane also performed with Netherlands Dans Theater\,\nLes Ballet De Monte Carlo and Mikail Baryshnikov’s White Oak Dance Project.\nAlso\, former Artistic Director of Smoke\, Lilies and Jade\nArts Initiative SLJ)  a socially conscious\, multi-media dance theater production company)
URL:https://philadanco.org/event/philadanco-holiday-treat-2/
CATEGORIES:Class,Other
ATTACH;FMTTYPE=image/jpeg:https://philadanco.org/wp-content/uploads/2020/12/IMG_3635.jpg
END:VEVENT
BEGIN:VEVENT
DTSTART;TZID=America/New_York:20201209T193000
DTEND;TZID=America/New_York:20201209T210000
DTSTAMP:20260423T075925
CREATED:20201208T022954Z
LAST-MODIFIED:20201220T195105Z
UID:1288-1607542200-1607547600@philadanco.org
SUMMARY:Philadanco! Holiday Treat
DESCRIPTION:Come take an OPEN COMPANY MASTER CLASS with the Fabulous Christopher Huggins as holiday treat to end the 2020 year. It will be $10.00 via CASHAPP: $Philadanco and PLEASE  put your EMAIL in the CashApp note so we can send you the link via ZOOM. 
URL:https://philadanco.org/event/philadanco-holiday-treat/
CATEGORIES:Class,Other
ATTACH;FMTTYPE=image/png:https://philadanco.org/wp-content/uploads/2020/12/C.-Huggins.png
END:VEVENT
END:VCALENDAR