BEGIN:VCALENDAR
VERSION:2.0
PRODID:-//Philadanco - ECPv6.15.3//NONSGML v1.0//EN
CALSCALE:GREGORIAN
METHOD:PUBLISH
X-WR-CALNAME:Philadanco
X-ORIGINAL-URL:https://philadanco.org
X-WR-CALDESC:Events for Philadanco
REFRESH-INTERVAL;VALUE=DURATION:PT1H
X-Robots-Tag:noindex
X-PUBLISHED-TTL:PT1H
BEGIN:VTIMEZONE
TZID:America/New_York
BEGIN:DAYLIGHT
TZOFFSETFROM:-0500
TZOFFSETTO:-0400
TZNAME:EDT
DTSTART:20240310T070000
END:DAYLIGHT
BEGIN:STANDARD
TZOFFSETFROM:-0400
TZOFFSETTO:-0500
TZNAME:EST
DTSTART:20241103T060000
END:STANDARD
END:VTIMEZONE
BEGIN:VEVENT
DTSTART;TZID=America/New_York:20240428T160000
DTEND;TZID=America/New_York:20240428T170000
DTSTAMP:20260425T114710
CREATED:20240318T200648Z
LAST-MODIFIED:20240318T200648Z
UID:2353-1714320000-1714323600@philadanco.org
SUMMARY:Legacy Conversation : Bernard Gaddis
DESCRIPTION:Join us on April 28th\, 2024 for Philadanco’s next Legacy Conversation Series with Contemporary West Dance Theatre Artistic Director and Philadanco Alumni\, Bernard Gaddis! This Talk Show style online event will be a wonderful opportunity to learn from relevant pioneers of the dance world today. You can register and purchase tickets with the link below: \nhttps://www.eventbrite.com/e/legacy-conversations-pioneers-in-their-craft-bernard-gaddis-tickets-847527988027?aff=oddtdtcreator&utm-source=cp&fbclid=IwAR3Oc6fTK4JOi_yz6U-9ZVoGaiiJoo-qF0z5fAMIvpcPEYxYMkmJXbw8aFY&utm-campaign=social&utm-content=attendeeshare&utm-medium=discovery&utm-term=listing
URL:https://philadanco.org/event/legacy-conversation-bernard-gaddis/
CATEGORIES:Community event,Other
ATTACH;FMTTYPE=image/png:https://philadanco.org/wp-content/uploads/2024/03/Bernard-Gaddis-LCS.png
END:VEVENT
END:VCALENDAR