BEGIN:VCALENDAR
VERSION:2.0
PRODID:-//Philadanco - ECPv6.15.3//NONSGML v1.0//EN
CALSCALE:GREGORIAN
METHOD:PUBLISH
X-WR-CALNAME:Philadanco
X-ORIGINAL-URL:https://philadanco.org
X-WR-CALDESC:Events for Philadanco
REFRESH-INTERVAL;VALUE=DURATION:PT1H
X-Robots-Tag:noindex
X-PUBLISHED-TTL:PT1H
BEGIN:VTIMEZONE
TZID:America/New_York
BEGIN:DAYLIGHT
TZOFFSETFROM:-0500
TZOFFSETTO:-0400
TZNAME:EDT
DTSTART:20240310T070000
END:DAYLIGHT
BEGIN:STANDARD
TZOFFSETFROM:-0400
TZOFFSETTO:-0500
TZNAME:EST
DTSTART:20241103T060000
END:STANDARD
END:VTIMEZONE
BEGIN:VEVENT
DTSTART;TZID=America/New_York:20241206T210000
DTEND;TZID=America/New_York:20241206T230000
DTSTAMP:20260424T234712
CREATED:20241126T155416Z
LAST-MODIFIED:20241126T155705Z
UID:2496-1733518800-1733526000@philadanco.org
SUMMARY:OPENING NIGHT CELEBRATION!
DESCRIPTION:TICKETS ARE AVAILABLE for our Opening Night Celebration Honoring Lee Daniels! Join us for a wonderful night celebrating 55 years of Philadanco following our opening night performance. You can RSVP with the link below or by calling PHILADANCO at 2153878200. Tickets are selling FAST\, so be sure to grab yours! \nScreenshot\nScreenshot\nScreenshot\nScreenshot
URL:https://philadanco.org/event/opening-night-celebration/
CATEGORIES:Community event,Fundraising,Other
ATTACH;FMTTYPE=image/jpeg:https://philadanco.org/wp-content/uploads/2024/11/Lee-1.jpg
END:VEVENT
END:VCALENDAR