BEGIN:VCALENDAR
VERSION:2.0
PRODID:-//Philadanco - ECPv6.15.3//NONSGML v1.0//EN
CALSCALE:GREGORIAN
METHOD:PUBLISH
X-WR-CALNAME:Philadanco
X-ORIGINAL-URL:https://philadanco.org
X-WR-CALDESC:Events for Philadanco
REFRESH-INTERVAL;VALUE=DURATION:PT1H
X-Robots-Tag:noindex
X-PUBLISHED-TTL:PT1H
BEGIN:VTIMEZONE
TZID:America/New_York
BEGIN:DAYLIGHT
TZOFFSETFROM:-0500
TZOFFSETTO:-0400
TZNAME:EDT
DTSTART:20220313T070000
END:DAYLIGHT
BEGIN:STANDARD
TZOFFSETFROM:-0400
TZOFFSETTO:-0500
TZNAME:EST
DTSTART:20221106T060000
END:STANDARD
END:VTIMEZONE
BEGIN:VEVENT
DTSTART;VALUE=DATE:20221028
DTEND;VALUE=DATE:20221031
DTSTAMP:20260425T180954
CREATED:20220921T222518Z
LAST-MODIFIED:20230403T162243Z
UID:1658-1666915200-1667174399@philadanco.org
SUMMARY:"Continuum" at The Kimmel
DESCRIPTION:PHILADANCO! returns to the Perelman theater stage with their thrilling new show\, The Continuum – Now/New/Next. Featuring choreography from Hope Boykin\, Bernard Gaddis\, Fransico Gella\, and Ephrat Asherie as they continue the legacy of PHILADANCO! \nThe Continuum presents Fransico Gella’s new work entitled “Seasons”\,  a visual and musical interpretation of the human experience based on in-depth interviews and joined together in a collection of captivating short dances. The Continuum also features Bernard Gaddis’ “Stolen Moments”\, which explores how stolen moments are the times that reinforce the meaning of partners together. The ballet looks at relationships between couples both tender and forbidden. \n  \nTICKETS: \nhttps://www.kimmelculturalcampus.org/events-and-tickets/202223/kcp/philadanco-fall/
URL:https://philadanco.org/event/continuum-at-the-kimmel/
CATEGORIES:Performances
ATTACH;FMTTYPE=image/jpeg:https://philadanco.org/wp-content/uploads/2022/09/jharris9342sm-1-1-scaled.jpg
END:VEVENT
END:VCALENDAR