BEGIN:VCALENDAR
VERSION:2.0
PRODID:-//Philadanco - ECPv6.15.3//NONSGML v1.0//EN
CALSCALE:GREGORIAN
METHOD:PUBLISH
X-ORIGINAL-URL:https://philadanco.org
X-WR-CALDESC:Events for Philadanco
REFRESH-INTERVAL;VALUE=DURATION:PT1H
X-Robots-Tag:noindex
X-PUBLISHED-TTL:PT1H
BEGIN:VTIMEZONE
TZID:America/New_York
BEGIN:DAYLIGHT
TZOFFSETFROM:-0500
TZOFFSETTO:-0400
TZNAME:EDT
DTSTART:20250309T070000
END:DAYLIGHT
BEGIN:STANDARD
TZOFFSETFROM:-0400
TZOFFSETTO:-0500
TZNAME:EST
DTSTART:20251102T060000
END:STANDARD
END:VTIMEZONE
BEGIN:VEVENT
DTSTART;TZID=America/New_York:20250610T180000
DTEND;TZID=America/New_York:20250610T190000
DTSTAMP:20260423T135754
CREATED:20230510T162011Z
LAST-MODIFIED:20250709T200539Z
UID:2109-1749578400-1749582000@philadanco.org
SUMMARY:PHILADANCO and D/2 at Dilworth Park!
DESCRIPTION:Philadanco and Philadanco’s training company D/2 will be doing a concert that is FREE to the public at Dilworth Park directly in front of City Hall from 6:00pm – 7:00pm! \n \n 
URL:https://philadanco.org/event/philadanco-and-d-2-at-dilworth-park/
LOCATION:Dilworth Park\, 1 S 15th Street\, Philadelphia\, PA\, 19139\, United States
CATEGORIES:Community event,Fundraising,Other,Performances
ATTACH;FMTTYPE=image/png:https://philadanco.org/wp-content/uploads/2023/05/Dilworth-Park-2025-2.png
END:VEVENT
END:VCALENDAR