BEGIN:VCALENDAR
VERSION:2.0
PRODID:-//Philadanco - ECPv6.15.3//NONSGML v1.0//EN
CALSCALE:GREGORIAN
METHOD:PUBLISH
X-ORIGINAL-URL:https://philadanco.org
X-WR-CALDESC:Events for Philadanco
REFRESH-INTERVAL;VALUE=DURATION:PT1H
X-Robots-Tag:noindex
X-PUBLISHED-TTL:PT1H
BEGIN:VTIMEZONE
TZID:America/New_York
BEGIN:DAYLIGHT
TZOFFSETFROM:-0500
TZOFFSETTO:-0400
TZNAME:EDT
DTSTART:20250309T070000
END:DAYLIGHT
BEGIN:STANDARD
TZOFFSETFROM:-0400
TZOFFSETTO:-0500
TZNAME:EST
DTSTART:20251102T060000
END:STANDARD
END:VTIMEZONE
BEGIN:VEVENT
DTSTART;TZID=America/New_York:20250912T190000
DTEND;TZID=America/New_York:20250913T203000
DTSTAMP:20260423T091334
CREATED:20250730T212312Z
LAST-MODIFIED:20250909T185017Z
UID:2652-1757703600-1757795400@philadanco.org
SUMMARY:DANCO ON DANCO 2025
DESCRIPTION:PHILADANCO’s Annual Choreography Concert \nSeptember 12\, 2024 at 7:00pm \nSeptember 13\, 2024 at 7:00pm \nEnjoy the opportunity to witness original works by PHILADANCO Company Members\, Second Company Members and Administration!
URL:https://philadanco.org/event/danco-on-danco-2025/
LOCATION:PHILADANCO!\, 9 N. Preston Street\, Philadelphia\, PA\, 19104\, United States
CATEGORIES:Community event,Fundraising,Other,Performances,Touring
ATTACH;FMTTYPE=image/png:https://philadanco.org/wp-content/uploads/2025/07/Danco-On-Danco-2025.png
ORGANIZER;CN="Philadanco!":MAILTO:marrb@philadanco.org
END:VEVENT
BEGIN:VEVENT
DTSTART;TZID=America/New_York:20250913T110000
DTEND;TZID=America/New_York:20250913T150000
DTSTAMP:20260423T091334
CREATED:20250818T163912Z
LAST-MODIFIED:20250820T184713Z
UID:2706-1757761200-1757775600@philadanco.org
SUMMARY:FREE Philadelphia Fall Arts Fest
DESCRIPTION:Join us as we launch our 2025/2026 season with an exciting celebration!\nExperience a vibrant array of live performances and engaging activities\, showcasing highlights from our prestigious Resident Companies and regional arts and cultural organizations. Plus\, expect fantastic ticket deals\, giveaways\, and venue tours! \nConfirmed performances include highlights from our 2025/2026 Broadway season\, Philadelphia Orchestra Quartet\, Philadelphia Ballet\, Opera Philadelphia\, BalletX\, Philadanco!\, The Independence Awards\, Philadelphia Chamber Music Society\, The Philly Pops\, and more! * \nPlus\, 50% off ticket deals to 50+ season performances\, including Broadway’s Kimberly Akimbo\, Suffs\, The Philadelphia Orchestra\, Whitney Cummings\, Alvin Ailey American Dance Theater\, Peppa Pig: My First Concert\, and more!* \nMore fun is on the way—stay tuned for the full lineup of activities\, performances\, and food and drink specials! \n*Schedule and sale offerings subject to change.  \n*50% off tickets available in person only. \nSaturday\, Sept 13 | 11AM–3PM \nKimmel Center for the Performing Arts
URL:https://philadanco.org/event/free-philadelphia-fall-arts-fest-2/
CATEGORIES:Community event,Fundraising,Other,Performances,Touring
ATTACH;FMTTYPE=image/webp:https://philadanco.org/wp-content/uploads/2025/08/Screenshot-2025-08-20-at-2.22.04-PM.webp
END:VEVENT
BEGIN:VEVENT
DTSTART;TZID=America/New_York:20250930T080000
DTEND;TZID=America/New_York:20251021T170000
DTSTAMP:20260423T091334
CREATED:20250818T164328Z
LAST-MODIFIED:20250930T163516Z
UID:2708-1759219200-1761066000@philadanco.org
SUMMARY:European Tour !
DESCRIPTION:PHILADANCO (The Philadelphia Dance Company) performs in Germany\, with past and upcoming dates including performances in Lünen\, Leverkusen\, and Offenburg in October 2025. The company has toured Germany extensively\, bringing their blend of classical and contemporary dance to international audiences who may not often see an American dance company.\n \n\n\n\n\nUpcoming Performances\n(Press the hyperlink for ticket information)\n\n\n\nIserlohn\n\nThe Parktheater on Thursday\, October 2\, 2025.\n\n\n\n\n\n\n\n\nLünen:\n\nThe Heinz-Hilpert-Theater on Sunday\, October 5\, 2025. \n\n\n\n\n\n\n\n\n\n\n\n\n\n\n\n\nLeverkusen:\nThe Forum Leverkusen on Tuesday\, October 7\, 2025.\n\n\n\n\n\nViersen\n\nThe Vierfalt – Kultur in Viersen on October 8\, 2025. \n\n\n\nMinden:\n\n          The Stadttheater Minden on Friday\, October 10\, 2025. \n\nWolfsburg\n\nThe Scharoun Theater on October 11\, 2025. \n\nLippstadt\n\nThe stadttheater on Sunday October 12\, 2025 \n\n      Ahaus:\n\n         The Kulturquadrat on Wednesday\, October 15\, 2025. \n\n\n\n\n\nOffenburg:\n\nThe Messe Offenburg on Sunday\, October 19\, 2025. \n\n\n\n\n\n\n\n\n\n\n\n\nHistorical Touring  \n\n\n\n\n\n\n\n\n\n\n\n\n\nPHILADANCO has a long history of international touring\, with founder Joan Myers Brown noting they’ve visited “every little town in Germany”.\nThe international appreciation for their performances is significant\, offering audiences a positive image of African Americans and American dance.\n\n\n\n\n\nWhere to Find Tickets\n\n\n\n\nYou can find tickets for PHILADANCO’s German performances on websites like StubHub and Viagogo.\n\n\nLocations:\n\nIserlohn\, Germany – Thursday\, Oct 2 at 20:00 \nLünen\, Germany – Sunday\, Oct 5 at 17:00 \nLeverkusen\, Germany – Tuesday\, Oct 7 at 19:30 \nViersen\, Germany – Wednesday\, Oct 8 at 20:00 \nHerford\, Germany – Thursday\, Oct 9 at 19:30 \nMinden\, Germany – Friday\, Oct 10 at 20:00 \nWolfsburg\, Germany – Saturday\, Oct 11 at 19:30 \nLippstadt\, Germany – Sunday\, Oct 12 at 19:00 \nOss\, Netherlands – Tuesday\, Oct 14 at 20:15 \nAhaus\, Germany – Wednesday\, Oct 15 at 20:00 \nSaarlouis\, Germany – Friday\, Oct 17 at 20:00 \nVillingen-Schwenningen\, Germany – Saturday\, Oct 18 at 20:00 \nOffenburg\, Germany – Sunday\, Oct 19 at 20:00
URL:https://philadanco.org/event/germany-tour/
CATEGORIES:Class,Community event,Other,Performances,Touring
ATTACH;FMTTYPE=image/webp:https://philadanco.org/wp-content/uploads/2025/08/jharris2245sm-scaled.webp
END:VEVENT
END:VCALENDAR