BEGIN:VCALENDAR
VERSION:2.0
PRODID:-//Philadanco - ECPv6.15.3//NONSGML v1.0//EN
CALSCALE:GREGORIAN
METHOD:PUBLISH
X-WR-CALNAME:Philadanco
X-ORIGINAL-URL:https://philadanco.org
X-WR-CALDESC:Events for Philadanco
REFRESH-INTERVAL;VALUE=DURATION:PT1H
X-Robots-Tag:noindex
X-PUBLISHED-TTL:PT1H
BEGIN:VTIMEZONE
TZID:America/New_York
BEGIN:DAYLIGHT
TZOFFSETFROM:-0500
TZOFFSETTO:-0400
TZNAME:EDT
DTSTART:20250309T070000
END:DAYLIGHT
BEGIN:STANDARD
TZOFFSETFROM:-0400
TZOFFSETTO:-0500
TZNAME:EST
DTSTART:20251102T060000
END:STANDARD
END:VTIMEZONE
BEGIN:VEVENT
DTSTART;TZID=America/New_York:20251205T190000
DTEND;TZID=America/New_York:20251207T140000
DTSTAMP:20260423T043140
CREATED:20250801T162803Z
LAST-MODIFIED:20251202T152557Z
UID:2654-1764961200-1765116000@philadanco.org
SUMMARY:THEN & NOW!
DESCRIPTION:For over 55 years\, PHILADANCO! has electrified audiences with its distinct blend of virtuosity\, urgency\, and heart. Then & Now is a sweeping celebration of that legacy honoring the iconic works that shaped the company’s past while boldly embracing the voices transforming its future. \nThe program revisits two classic ballets: Donald Byrd’s Everybody\, a propulsive\, biting meditation on rhythm from 1996 that still hits with startling relevance\, by a Tony-nominated and Bessie Award-winning choreographer known for bold work that redefines contemporary dance. Tommie-Waheed Evans’ WITH(IN)VERSE\, created in 2018\, offers a searing emotional portrait of vulnerability and spiritual transformation through movement – crafted by a Guggenheim Fellow whose work merges Blackness and raw physicality. Experience the continual growth of PHILADANCO! as a living archive where legacy and reinvention move side by side. \n\nTwo new commissions further push the company’s trajectory forward: a Company Premiere by the world renowned Ronald K. Brown\, whose signature fusion of West African forms and modern dance once again finds new depth within the PHILADANCO! ensemble; and introducing a World Premiere by rising choreographic force Juel D. Lane\, whose kinetic style brings a youthful\, urgent edge to the stage. \nAt once reverent and forward-looking\, Then & Now is more than a milestone; it continues a declaration of where Black dance has been\, and where it dares go next. \nAcross the nation and around the world\, PHILADANCO! is celebrated for its innovation\, creativity\, and preservation of primarily African American traditions in dance. \n\n\nFriday | Dec 5\, 2025\n7:30pm\n\n\nSaturday | Dec 6\, 2025\n2:00pm\n\n\nSaturday | Dec 6\, 2025\n7:30pm\n\n\nSunday | Dec 7\, 2025\n2:00pm\n\n\nTake a look behind the scenes:\n\n“Heirborne” by Juel D. Lane | Behind The Scenes:\nhttps://youtu.be/QazOq1svlVg\n\n“Everybody” by Donald Byrd | Behind The Scenes\nhttps://youtu.be/zh5X7gucOR4
URL:https://philadanco.org/event/then-now/
LOCATION:Kimmel Cultural Campus\, Perelman Theater\, 300 South Broad Street\, Philadelphia\, PA\, 19102\, United States
CATEGORIES:Community event,Other,Performances,Touring
ATTACH;FMTTYPE=image/jpeg:https://philadanco.org/wp-content/uploads/2025/08/Then-Now-2025-2.jpg
ORGANIZER;CN="Philadanco!":MAILTO:marrb@philadanco.org
END:VEVENT
END:VCALENDAR