BEGIN:VCALENDAR
VERSION:2.0
PRODID:-//Philadanco - ECPv6.15.3//NONSGML v1.0//EN
CALSCALE:GREGORIAN
METHOD:PUBLISH
X-WR-CALNAME:Philadanco
X-ORIGINAL-URL:https://philadanco.org
X-WR-CALDESC:Events for Philadanco
REFRESH-INTERVAL;VALUE=DURATION:PT1H
X-Robots-Tag:noindex
X-PUBLISHED-TTL:PT1H
BEGIN:VTIMEZONE
TZID:America/New_York
BEGIN:DAYLIGHT
TZOFFSETFROM:-0500
TZOFFSETTO:-0400
TZNAME:EDT
DTSTART:20260308T070000
END:DAYLIGHT
BEGIN:STANDARD
TZOFFSETFROM:-0400
TZOFFSETTO:-0500
TZNAME:EST
DTSTART:20261101T060000
END:STANDARD
END:VTIMEZONE
BEGIN:VEVENT
DTSTART;TZID=America/New_York:20260614T140000
DTEND;TZID=America/New_York:20260614T160000
DTSTAMP:20260422T234834
CREATED:20231113T174053Z
LAST-MODIFIED:20260413T191731Z
UID:2273-1781445600-1781452800@philadanco.org
SUMMARY:June Audition 2026
DESCRIPTION:PHILADANCO 2026 SUMMER AUDITION \nProfessional Company Audition \nDate: \nJune 14\, 2026 \nTime: \nMain Company: 2:00 P.M. \nD/2 | Second Company: 12:00 P.M. \nWhere:  \nPhiladanco! 9 N. Preston Street Philadelphia P.A. 19104 \n(Can register on-sight day of Auditions) \n(Pre-registration recommended) \nScan the QR code or click the link below to register \n\n\n\n\nMain Company:\nIN-PERSON ONLY AT THIS TIME\n\n\nD/2 Training Company:\n\nhttps://docs.google.com/forms/d/1uuHFidKFxQ1AKpUJW2_4qwC39yk4icVMucyHNpOObUw/viewform?edit_requested=true&pli=1\n \nIf you have any questions\, please email company.philadanco@gmail.com \n 
URL:https://philadanco.org/event/audition-2024/
CATEGORIES:Auditions,Other,Performances,Summer Intensive,Touring
ATTACH;FMTTYPE=image/jpeg:https://philadanco.org/wp-content/uploads/2023/11/2026-Audition-Flyer.jpg
END:VEVENT
END:VCALENDAR