BEGIN:VCALENDAR
VERSION:2.0
PRODID:-//Philadanco - ECPv6.15.3//NONSGML v1.0//EN
CALSCALE:GREGORIAN
METHOD:PUBLISH
X-ORIGINAL-URL:https://philadanco.org
X-WR-CALDESC:Events for Philadanco
REFRESH-INTERVAL;VALUE=DURATION:PT1H
X-Robots-Tag:noindex
X-PUBLISHED-TTL:PT1H
BEGIN:VTIMEZONE
TZID:America/New_York
BEGIN:DAYLIGHT
TZOFFSETFROM:-0500
TZOFFSETTO:-0400
TZNAME:EDT
DTSTART:20260308T070000
END:DAYLIGHT
BEGIN:STANDARD
TZOFFSETFROM:-0400
TZOFFSETTO:-0500
TZNAME:EST
DTSTART:20261101T060000
END:STANDARD
END:VTIMEZONE
BEGIN:VEVENT
DTSTART;TZID=America/New_York:20260614T140000
DTEND;TZID=America/New_York:20260614T160000
DTSTAMP:20260423T154754
CREATED:20231113T174053Z
LAST-MODIFIED:20260413T191731Z
UID:2273-1781445600-1781452800@philadanco.org
SUMMARY:June Audition 2026
DESCRIPTION:PHILADANCO 2026 SUMMER AUDITION \nProfessional Company Audition \nDate: \nJune 14\, 2026 \nTime: \nMain Company: 2:00 P.M. \nD/2 | Second Company: 12:00 P.M. \nWhere:  \nPhiladanco! 9 N. Preston Street Philadelphia P.A. 19104 \n(Can register on-sight day of Auditions) \n(Pre-registration recommended) \nScan the QR code or click the link below to register \n\n\n\n\nMain Company:\nIN-PERSON ONLY AT THIS TIME\n\n\nD/2 Training Company:\n\nhttps://docs.google.com/forms/d/1uuHFidKFxQ1AKpUJW2_4qwC39yk4icVMucyHNpOObUw/viewform?edit_requested=true&pli=1\n \nIf you have any questions\, please email company.philadanco@gmail.com \n 
URL:https://philadanco.org/event/audition-2024/
CATEGORIES:Auditions,Other,Performances,Summer Intensive,Touring
ATTACH;FMTTYPE=image/jpeg:https://philadanco.org/wp-content/uploads/2023/11/2026-Audition-Flyer.jpg
END:VEVENT
BEGIN:VEVENT
DTSTART;TZID=America/New_York:20260619T190000
DTEND;TZID=America/New_York:20260619T210000
DTSTAMP:20260423T154754
CREATED:20260421T150238Z
LAST-MODIFIED:20260422T185216Z
UID:2893-1781895600-1781902800@philadanco.org
SUMMARY:Longwood Gardens
DESCRIPTION:Date & Price\n\n\n\nFriday\, June 19\, 2026 at 7:00 pm \nOpen Air Theatre \n\n\n\n\n\nTickets\nReserved Seating: $31–$40 \nGardens Preferred\, Gardens Premium Members\, and Innovators: $26–$35 \nTicket includes all-day Gardens Admission. Tickets limited. Sell out likely. \nOur prices reflect the ticket price and associated convenience fee.  \n\nPresented in partnership with Voices Underground as part of their Chester County-wide commemoration of Juneteenth\, enjoy an evening with the internationally award-winning modern dance company Philadelphia Dance Company (PHILADANCO!)\, celebrated for its innovation\, creativity\, and preservation of predominantly African-American traditions in dance. \nThe resident modern dance company of the Kimmel Cultural Campus\, PHILADANCO! is celebrating 56 years of providing exceptional dance performances and training to dancers and audiences throughout the US and around the world. This is its 26th season at the Kimmel Center—Ensemble Arts Philly. \nSince its inception in 1970\, PHILADANCO! has made a significant impact on the dance world. As a cultural ambassador representing the US\, the Commonwealth of Pennsylvania\, and the City of Philadelphia\, its artistic direction and renowned national and international DEI guest choreographers have developed a reputation of producing a dance repertory with passion\, power\, skill\, and diversity. Its stellar faculty\, handpicked by PHILADANCO! Founder Joan Myers Brown\, has trained more than 4\,500 dancers in a comprehensive program achieving the highest level of technical skills in dance and performance. Its unique blend of dance styles and its roster of often 50 to 60 concert performances and 45 residencies most years has made PHILADANCO! one of the most sought-after modern dance companies in the United States. \nPHILADANCO! has received many significant grants of support\, an NEA Fellowship\, the prestigious National Choreography Planning Grant\, and has organized the historic first two International Conferences for Black Dance Companies in Philadelphia (1988). It annually assembles thousands for the International Conference on Black Dance\, headed by the now International Association of Blacks in Dance (1991). Collaborations for the company include the Apollo Theater and Rennie Harris Puremovement. \nThe company is committed to engaging with the community and frequently with Drexel University\, String Theory\, the University of Pennsylvania\, Next Move concerts\, Living Arts\, Breaking Barriers\, and others. More importantly\, PHILADANCO! believes in and continues to provide quality arts instruction to young people with authentic learning experiences that engage their minds\, hearts\, and bodies. Its record of performing opportunities\, commissioned works\, and life-changing experiences is unequaled. Recent significant funding by the Mellon Foundation\, the Wallace Foundation\, the Doris Duke Foundation\, and others ensures they continue for years to come.
URL:https://philadanco.org/event/longwood-gardens/
CATEGORIES:Community event,Other,Performances,Touring
ATTACH;FMTTYPE=image/webp:https://philadanco.org/wp-content/uploads/2026/04/Longwood-Gardens-2026.webp
END:VEVENT
BEGIN:VEVENT
DTSTART;TZID=America/New_York:20260729T193000
DTEND;TZID=America/New_York:20260802T140000
DTSTAMP:20260423T154754
CREATED:20260112T171323Z
LAST-MODIFIED:20260406T045719Z
UID:2831-1785353400-1785679200@philadanco.org
SUMMARY:PHILADANCO! at The Joyce Theatre
DESCRIPTION:Continuing its mission for over five decades to preserve the Black traditions in dance\, PHILADANCO! returns with a program that reflects the company’s creative\, inventive\, and deeply rooted artistry. PHILADANCO! stands as an anchor of American modern dance excellence\, known for producing dancers with unmatched technique and for upholding the lineage of Black American concert dance at the highest standard. This season gathers works that honor the company’s legacy while propelling it forward in the world of dance with four distinctive voices that reveal PHILADANCO!’s unmistakable power and evolution. \nThe dynamic season includes Thang Dao’s striking Roked; Tommie-Waheed Evans’ emotionally charged Promise Me You Won’t Call; and a new creation by Rennie Harris\, set to the unmistakable sound of Philadelphia celebrating the legacy of Philadelphia International Records. The engagement will also mark the 25th anniversary of Christopher Huggins’ epic tour de force\, Enemy Behind the Gates\, a masterwork that has endured across generations and continues to resonate with audiences around the world. \n\nSpecial Performances\nCurtain Chat: Thu\, Jul 30\nFamily Matinee: Sat\, Aug 1 at 2pm \n\n\nSee More: \n\nFamily Matinees\nCurtain Chats\nSpring/Summer ’26\n\nTICKET PRICES\n\nTickets start at $10! \nCall JoyceCharge at 212-242-0800 for $10 tickets. All other tickets can be purchased online.
URL:https://philadanco.org/event/philadanco-at-the-joyce-theatre-2026/
LOCATION:The Joyce Theater\, 175 Eighth Avenue\, New York\, NY\, 10011\, United States
CATEGORIES:Community event,Other,Performances,Touring
ATTACH;FMTTYPE=image/jpeg:https://philadanco.org/wp-content/uploads/2025/08/Promo-Pic-1-scaled.jpg
END:VEVENT
END:VCALENDAR