BEGIN:VCALENDAR
VERSION:2.0
PRODID:-//Philadanco - ECPv6.15.3//NONSGML v1.0//EN
CALSCALE:GREGORIAN
METHOD:PUBLISH
X-WR-CALNAME:Philadanco
X-ORIGINAL-URL:https://philadanco.org
X-WR-CALDESC:Events for Philadanco
REFRESH-INTERVAL;VALUE=DURATION:PT1H
X-Robots-Tag:noindex
X-PUBLISHED-TTL:PT1H
BEGIN:VTIMEZONE
TZID:America/New_York
BEGIN:DAYLIGHT
TZOFFSETFROM:-0500
TZOFFSETTO:-0400
TZNAME:EDT
DTSTART:20220313T070000
END:DAYLIGHT
BEGIN:STANDARD
TZOFFSETFROM:-0400
TZOFFSETTO:-0500
TZNAME:EST
DTSTART:20221106T060000
END:STANDARD
BEGIN:DAYLIGHT
TZOFFSETFROM:-0500
TZOFFSETTO:-0400
TZNAME:EDT
DTSTART:20230312T070000
END:DAYLIGHT
BEGIN:STANDARD
TZOFFSETFROM:-0400
TZOFFSETTO:-0500
TZNAME:EST
DTSTART:20231105T060000
END:STANDARD
BEGIN:DAYLIGHT
TZOFFSETFROM:-0500
TZOFFSETTO:-0400
TZNAME:EDT
DTSTART:20240310T070000
END:DAYLIGHT
BEGIN:STANDARD
TZOFFSETFROM:-0400
TZOFFSETTO:-0500
TZNAME:EST
DTSTART:20241103T060000
END:STANDARD
BEGIN:DAYLIGHT
TZOFFSETFROM:-0500
TZOFFSETTO:-0400
TZNAME:EDT
DTSTART:20250309T070000
END:DAYLIGHT
BEGIN:STANDARD
TZOFFSETFROM:-0400
TZOFFSETTO:-0500
TZNAME:EST
DTSTART:20251102T060000
END:STANDARD
END:VTIMEZONE
BEGIN:VEVENT
DTSTART;TZID=America/New_York:20250425T193000
DTEND;TZID=America/New_York:20250427T140000
DTSTAMP:20260423T190409
CREATED:20240618T123740Z
LAST-MODIFIED:20250331T154919Z
UID:2416-1745609400-1745762400@philadanco.org
SUMMARY:RELENTLESS RESIDENT VISIONS!
DESCRIPTION:Ensemble Arts Presents\nPHILADANCO! Relentless Resident Visions\n\n\n\nOverview\n\n\n\n\n\n\nThis spring PHILADANCO! showcases new and classic works from their cutting-edge choreographers\, Christopher Huggins\, Tommie-Waheed Evans\, Ray Mercer\, and Milton Myers. The performance series emphasized the unity and diversity within the PHILADANCO! family\, highlighting the choreographers’ unique backgrounds and distinct styles. \nOften described as “a brilliant mix of miracle of skill\, energy and artistry\,” PHILADANCO!  dancers are among the best in the world. Join us as we celebrate these brilliant makers within the PHILADANCO! artistic family. \nFull repertory to be announced  \n\nShowtimes: \nFriday | April 25th\, 2025 – 7:30 pm \nSaturday | April 26th\, 2025 – 2:00 pm \nSaturday | April 26th\, 2025 – 7:30 pm \nSunday | April 27th\, 2025 – 2:00 pm \n\nCall Philadanco studios for more information and to reserve your ticket. \n\nBehind The Scenes of works being performed: \n\n“Enemy Behind The Gates” by Christopher L. Huggins
URL:https://philadanco.org/event/tickets-and-events-resident-companies-philadanco-philadanco-springe890/
LOCATION:Kimmel Cultural Campus\, Perelman Theater\, 300 South Broad Street\, Philadelphia\, PA\, 19102\, United States
CATEGORIES:Community event,Other,Performances,Touring
ATTACH;FMTTYPE=image/png:https://philadanco.org/wp-content/uploads/2024/06/Spring-Kimmel-2025.png
END:VEVENT
BEGIN:VEVENT
DTSTART;TZID=America/New_York:20250308T193000
DTEND;TZID=America/New_York:20250308T210000
DTSTAMP:20260423T190409
CREATED:20250207T064311Z
LAST-MODIFIED:20250219T162259Z
UID:2526-1741462200-1741467600@philadanco.org
SUMMARY:92NY - Harkness Dance Center - Celebrating 90 Years
DESCRIPTION:A landmark evening in dance history\, this extraordinary performance brings together two influential companies\, each rooted in deep cultural traditions and celebrated for their transformative artistry\, whose roots are entwined with the Harkness Dance Center. \nRonald K. Brown and his company EVIDENCE return to The 92nd Street Y with Upside Down\, a work that blends African diasporic rhythms with contemporary dance. Originally created in 1998 in collaboration with Rokiya Kone and her Jeune Ballet d’Afrique Noire\, the piece is driven by the vibrant music of Nigerian singer Wunmi\, accompanied by both traditional and modern instruments. \nUpside Down highlights family lineages that reach from the past into the future. Its early sections channel communal grief — moving seamlessly from introspective gestures to full-bodied group sequences. The 92nd Street Y holds special meaning for Brown: it was here that the legendary Judith Jamison first witnessed his rehearsals and asked him to create a work for the Ailey organization. Now\, more than two decades later\, Upside Down returns to the place where its journey began\, a testament to Brown’s enduring vision and creative roots. \nPHILADANCO!: In their 92NY debut\, Philadelphia’s renowned PHILADANCO! brings a stunning performance of Talley Beatty’s Pretty is Skin Deep\, Ugly is to the Bone. Beatty\, a pioneering figure in American modern dance\, first graced our stage in 1937 with Katherine Dunham and later collaborated with Alvin Ailey\, shaping the future of dance right here. Now\, nearly 60 years since the piece was last performed at 92NY\, it returns as a testament to Beatty’s enduring legacy. With its vibrant blend of innovation and tradition\, PHILADANCO!’s precision\, passion\, and performance promise a “stunner” (The Philadelphia Inquirer). Celebrated for their dynamic dancers and their elevation of African American dance traditions\, PHILADANCO!’s performance is an unforgettable celebration of the past\, present\, and future of American dance. \nDon’t miss this unparalleled opportunity to witness two pivotal companies perform in the very space where dance history was made. \nRecordings of the streaming of any kind are strictly prohibited.
URL:https://philadanco.org/event/92ny-harkness-dance-center-celebrating-90-years/
LOCATION:PA
CATEGORIES:Community event,Other,Performances,Touring
ATTACH;FMTTYPE=image/jpeg:https://philadanco.org/wp-content/uploads/2024/09/Raven-scaled.jpg
END:VEVENT
BEGIN:VEVENT
DTSTART;TZID=America/New_York:20250301T150000
DTEND;TZID=America/New_York:20250301T170000
DTSTAMP:20260423T190409
CREATED:20250117T181349Z
LAST-MODIFIED:20250222T060107Z
UID:2519-1740841200-1740848400@philadanco.org
SUMMARY:Esperanza Arts Center 2025
DESCRIPTION:March 1\, 2025\, 3:00pm \n$20 General Admission\, Free for Students & Seniors \nDescribed as a “brilliant mix of skill\, energy\, and artistry”\, Philadelphia’s groundbreaking dance company\, Philadanco returns the Teatro stage in a one-night only performance featuring its virtuoso dancers in a diverse and imaginative program rooted in African-American traditions.
URL:https://philadanco.org/event/esperanza-arts-center-2025/
LOCATION:4261 North 5th Street Philadelphia\, PA 19140\, 4261 N 5th Street\, Philadelphia\, PA\, United States
CATEGORIES:Community event,Fundraising,Other,Performances,Touring
ATTACH;FMTTYPE=image/jpeg:https://philadanco.org/wp-content/uploads/2025/01/Esperanza-Arts-2025.jpg
END:VEVENT
BEGIN:VEVENT
DTSTART;TZID=America/New_York:20250110T201000
DTEND;TZID=America/New_York:20250110T205000
DTSTAMP:20260423T190409
CREATED:20241218T210609Z
LAST-MODIFIED:20241223T163903Z
UID:2514-1736539800-1736542200@philadanco.org
SUMMARY:APAP 2025
DESCRIPTION:Philadanco will be doing a performance for APAP 2025 at the Ailey Citigroup Theater (405 W 55th St\, New York\, NY 10019)
URL:https://philadanco.org/event/apap-2025/
LOCATION:PA
CATEGORIES:Class,Community event,Other,Performances,Touring
ATTACH;FMTTYPE=image/jpeg:https://philadanco.org/wp-content/uploads/2024/12/APAP-2025.jpg
END:VEVENT
BEGIN:VEVENT
DTSTART;TZID=America/New_York:20241202T190000
DTEND;TZID=America/New_York:20241202T210000
DTSTAMP:20260423T190409
CREATED:20241104T175709Z
LAST-MODIFIED:20241104T181709Z
UID:2481-1733166000-1733173200@philadanco.org
SUMMARY:2024 Dance Magazine Awards
DESCRIPTION:The 2024 Dance Magazine Awards will honor George Faison\, Joanna Haigood\, Liz Lerman\, Mavis Staines\, and Shen Wei. The Chairman’s Award will go to Mikhail Baryshnikov for his work with Baryshnikov Arts\, and the posthumous awards will celebrate six artists who were not recognized by the awards committee during their lifetimes. \nA tradition dating back to 1954\, the Dance Magazine Awards are given in appreciation of the artistry\, integrity\, and resilience that dance artists have demonstrated over the course of their careers. The theme for 2024 is “the stage and beyond”: The dancers\, choreographers\, and educators in this remarkable group of honorees are invested in work that often transcends the proscenium. \nA ceremony to recognize this year’s recipients will be held in New York City at Baryshnikov Arts on Monday\, December 2\, at 7 pm EST\, with performances and presentations for each. For ticket information\, visit the Dance Media store.
URL:https://philadanco.org/event/2024-dance-magazine-awards/
LOCATION:PA
CATEGORIES:Community event,Other,Performances,Touring
ATTACH;FMTTYPE=image/png:https://philadanco.org/wp-content/uploads/2024/11/Copy-of-DMAs2024_Honorees_2160x1080.png
END:VEVENT
BEGIN:VEVENT
DTSTART;TZID=America/New_York:20241019T193000
DTEND;TZID=America/New_York:20241019T213000
DTSTAMP:20260423T190409
CREATED:20240915T213225Z
LAST-MODIFIED:20240915T214706Z
UID:2456-1729366200-1729373400@philadanco.org
SUMMARY:PHILADANCO! at  Rowan University
DESCRIPTION:PHILADANCO! at \nRowan University \n\n\n\n\n\n\n\n\n\n\n\n\n\n\n\n\n“How We Sustain”\nSaturday\, October 19\, 2024\n7:30 PM – Pfleeger Concert Hall\nAcross the nation and around the world\, PHILADANCO! is a Philadelphia institution celebrated for its innovation\, creativity\, and preservation of predominantly African-American traditions in dance. Marking the company’s 55th anniversary season\, as well as their debut performance at Rowan University\, How We Sustain tells a story of natural cycles\, continuity\, shared purpose\, and spiritual power\, featuring works by Francisco Gella\, Ronald K. Brown\, Ray Mercer\, and Tommie Waheed-Evans. \nRuntime is 75 minutes with a 15 minute intermission. \n*With support from Rowan University’s Catalysts for Sustainability initiative \n(Tickets are limited\, and we will quickly reach capacity\, so make your purchase ASAP!)
URL:https://philadanco.org/event/philadanco-at-rowan-university/
LOCATION:PA
CATEGORIES:Community event,Other,Performances,Touring
ATTACH;FMTTYPE=image/png:https://philadanco.org/wp-content/uploads/2024/09/Kaylah-Kam.png
END:VEVENT
BEGIN:VEVENT
DTSTART;TZID=America/New_York:20241010T193000
DTEND;TZID=America/New_York:20241010T210000
DTSTAMP:20260423T190409
CREATED:20240915T212714Z
LAST-MODIFIED:20240924T212151Z
UID:2451-1728588600-1728594000@philadanco.org
SUMMARY:PHILADANCO! at PENN STATE | HARRISBURG
DESCRIPTION:PHILADANCO will be performing at Penn State University \nThursday\, October 10\, 2024\n7:30 PM – Kulkarni Theater
URL:https://philadanco.org/event/philadanco-at-penn-state-harrisburg/
LOCATION:PA
CATEGORIES:Community event,Other,Performances,Touring
ATTACH;FMTTYPE=image/png:https://philadanco.org/wp-content/uploads/2024/09/Izzy-Purple.png
END:VEVENT
BEGIN:VEVENT
DTSTART;TZID=America/New_York:20240915T080000
DTEND;TZID=America/New_York:20240915T170000
DTSTAMP:20260423T190409
CREATED:20240915T214216Z
LAST-MODIFIED:20240915T214818Z
UID:2460-1726387200-1726419600@philadanco.org
SUMMARY:FREE Philadelphia Fall Arts Fest
DESCRIPTION:Philadanco will be performing at a FREE Philadelphia Fall Arts Fest \n\n\n\n\nJoin us as we launch our 2024/2025 season with an exciting celebration!\nExperience a vibrant array of live performances and engaging activities\, showcasing highlights from our prestigious Resident Companies and regional arts and cultural organizations. Plus\, expect fantastic ticket deals and giveaways! Get creative with superhero comic creation led by Art Sphere\, design your own jewelry with the Caribbean Community of Philadelphia\, explore a Musical Instrument Petting Zoo hosted by Keep Music Alive\, and don’t miss the chance for a kid’s tap shoe giveaway from the Lady Hoofers Tap Ensemble. You can also enjoy a special performance from a small ensemble of the world-renowned Philadelphia Orchestra! \nProgram\nCommonwealth Plaza Stage \n11:00 AM Aurora Classical\n11:30 AM Opera Philadelphia\n12:00 PM Philadelphia Orchestra Small Ensemble\n12:30 PM Performances from Broadway’s A Beautiful Noise and MJ The Musical\n1:20 PM The No Name Pops\n2:15 PM Independence Awards\n2:30 PM Performances from Broadway’s A Beautiful Noise and MJ The Musical \nPerelman Theater \n11:50 AM Philadelphia Ballet\n12:10 PM Chocolate Ballerina Company\n12:30 PM Carne Viva Dance Theatre\n12:45 PM Kun-Yang Lin / Dancers\n1:05 PM SHARP Dance Company\n1:30 PM BalletX\n1:55 PM Living Arts Dance\n2:25 PM Koresh Dance Company\n2:45 PM PHILADANCO
URL:https://philadanco.org/event/free-philadelphia-fall-arts-fest/
LOCATION:PA
CATEGORIES:Community event,Fundraising,Other,Performances,Touring
ATTACH;FMTTYPE=image/jpeg:https://philadanco.org/wp-content/uploads/2024/09/Raven-scaled.jpg
END:VEVENT
BEGIN:VEVENT
DTSTART;TZID=America/New_York:20240913T193000
DTEND;TZID=America/New_York:20240914T210000
DTSTAMP:20260423T190409
CREATED:20240807T175423Z
LAST-MODIFIED:20240910T145426Z
UID:2430-1726255800-1726347600@philadanco.org
SUMMARY:Danco On Danco 2024
DESCRIPTION:September 13\, 2024 at 7:30pm \nSeptember 14\, 2024 at 7:30pm \n \nEnjoy the opportunity to witness original works by PHILADANCO Company Members\, Second Company Members and Administration! \n 
URL:https://philadanco.org/event/danco-on-danco-2024/
LOCATION:PA
CATEGORIES:Community event,Fundraising,Other,Performances,Touring
ATTACH;FMTTYPE=image/png:https://philadanco.org/wp-content/uploads/2024/08/DANCO-ON-DANCO-2024.png
END:VEVENT
BEGIN:VEVENT
DTSTART;TZID=America/New_York:20240412T193000
DTEND;TZID=America/New_York:20240414T140000
DTSTAMP:20260423T190409
CREATED:20230828T023118Z
LAST-MODIFIED:20240415T192050Z
UID:2244-1712950200-1713103200@philadanco.org
SUMMARY:Roots and Reflections
DESCRIPTION:This spring PHILADANCO! takes a trip down memory lane\, revisiting masterpieces and iconic ballets that are ingrained in the foundation of PHILADANCO!’s extraordinary legacy. Witness one of America’s top dance companies share fresh and fervent stories through movement. \nThe spring performances feature PHILADANCO’s most requested ballets including George Faison’s “Suite Otis” in Faison’s modern jazz style and inspired by the genius of the late Otis Redding. Ronald K. Brown’s\, “Gate Keepers” is a story of homage\, celebration\, and an acknowledgment of conscious continuity\, interconnectedness\, history\, tradition\, and perseverance. “Pretty Is Skin Deep\, Ugly to the Bone” by Talley Beatty is a modern jazz ballet in his usual style of inner-city interaction and challenge; and Harold Pierson’s “Roots & Reflections” celebrates 100 years of African American dance history. \nAcross the nation and around the world\, PHILADANCO! is celebrated for its innovation\, creativity\, and preservation of primarily African-American traditions in dance. One of Philadelphia’s premier dance companies\, PHILADANCO! has a legacy of breaking barriers and building bridges across cultural divides and producing high-energy\, technically proficient dances with speed\, stamina\, and grace.
URL:https://philadanco.org/event/directors-choice/
LOCATION:PA
CATEGORIES:Community event,Other,Performances,Touring
ATTACH;FMTTYPE=image/png:https://philadanco.org/wp-content/uploads/2023/08/Roots-and-Reflections.png
END:VEVENT
BEGIN:VEVENT
DTSTART;TZID=America/New_York:20240315T200000
DTEND;TZID=America/New_York:20240315T213000
DTSTAMP:20260423T190409
CREATED:20240105T191518Z
LAST-MODIFIED:20240105T191518Z
UID:2313-1710532800-1710538200@philadanco.org
SUMMARY:The Hylton Center | Virginia
DESCRIPTION:The Philadelphia Dance Company\, better known as PHILADANCO!\, is widely recognized for\nits artistic integrity\, superbly trained dancers\, and electrifying performances. Formed in 1970 by\nJoan Myers Brown\, a barrier-breaking African American ballet dancer\, PHILADANCO!\nlaunched to provide artistic opportunities and nurture the talents of Black dancers denied places\nin local dance companies. Witness one of America’s top dance companies share fresh and\nfervent stories through movement. “If there’s fun to be had\, PHILADANCO! will have it. But if\nthere’s deeper purpose\, these performers will clarify it\, underscore it\, and make you pay\nattention.” (Dance Magazine). As an Artist-in-Residence\, company members will also work with\nthe community through classes and workshops during the week surrounding the performance.
URL:https://philadanco.org/event/the-hylton-center-virginia/
LOCATION:PA
CATEGORIES:Performances,Touring
ATTACH;FMTTYPE=image/png:https://philadanco.org/wp-content/uploads/2023/05/large-dancer-01.png
END:VEVENT
BEGIN:VEVENT
DTSTART;TZID=America/New_York:20240229T193000
DTEND;TZID=America/New_York:20240229T213000
DTSTAMP:20260423T190409
CREATED:20240105T184035Z
LAST-MODIFIED:20240105T191545Z
UID:2311-1709235000-1709242200@philadanco.org
SUMMARY:PHILADANCO! at The Gordon Center | Owings Mills \, MD
DESCRIPTION:The Philadelphia Dance Company (PHILADANCO!) is a nonprofit organization that presents the highest quality of professional dance performance and cultivates the skills of emerging and professional dancers and choreographers in a nurturing environment\, while increasing the appreciation of dance among its many communities. Across the nation and around the world\, PHILADANCO! is celebrated for its innovation\, creativity\, and preservation of predominantly African-American traditions in dance.  \nTickets: $35/orchestra; $30/mezzanine $15 youth/students under 18 years old. There is a $3 per ticket fee. Senior and JCC member discounts are permitted. \nTHERE ARE NO REFUNDS OR EXCHANGES OF GORDON CENTER TICKETS.
URL:https://philadanco.org/event/philadanco-at-the-gordon-center-owings-mills-md/
LOCATION:PA
CATEGORIES:Other,Performances,Touring
ATTACH;FMTTYPE=image/jpeg:https://philadanco.org/wp-content/uploads/2022/09/jharris9342sm-1-1-scaled.jpg
END:VEVENT
BEGIN:VEVENT
DTSTART;TZID=America/New_York:20240127T193000
DTEND;TZID=America/New_York:20240127T213000
DTSTAMP:20260423T190409
CREATED:20240108T202528Z
LAST-MODIFIED:20240108T202528Z
UID:2315-1706383800-1706391000@philadanco.org
SUMMARY:IABD (International Association of Blacks in Dance)
DESCRIPTION:A Blues for Memphis\nFounders & Invited Guests Performance\nSaturday\, January 27\, 2024\n7:30PM – 9:30PM  | Orpheum Theater \nFeaturing works by: \n\nCleo Parker Robinson Dance\nCollage Dance Collective\nDallas Black Dance Theatre\nDance Theater of Harlem\nDayton Contemporary Dance Company\nDeeply Rooted Dance Theater\nLula Washington Dance Theatre\nPHILADANCO
URL:https://philadanco.org/event/iabd-international-association-of-blacks-in-dance/
LOCATION:Orpheum Theater\, 203 S. Main Street\, Memphis\, TN\, 38103\, United States
CATEGORIES:Community event,Other,Performances,Touring
ATTACH;FMTTYPE=image/png:https://philadanco.org/wp-content/uploads/2023/05/Brena-Leg.png
END:VEVENT
BEGIN:VEVENT
DTSTART;TZID=America/New_York:20231111T193000
DTEND;TZID=America/New_York:20231111T213000
DTSTAMP:20260423T190409
CREATED:20230814T162502Z
LAST-MODIFIED:20230828T023425Z
UID:2226-1699731000-1699738200@philadanco.org
SUMMARY:DANCE CLEVELAND!
DESCRIPTION:PHILADANCO! makes their long-awaited return to Cleveland after more than 17 years with a thrilling program featuring a mix of contemporary dance works that highlight the versatility and spirit of PHILADANCO! Across the nation and around the world\, PHILADANCO! is celebrated for its innovation\, creativity\, and preservation of predominantly African American traditions in dance. The company exhibits beautiful ballet technique alongside contemporary movement that showcases the dancers’ amazing talent. Founded in 1970 by Joan Myers Brown\, the company has a legacy of breaking barriers and building bridges across cultural divides. PHILADANCO! has become one of Philadelphia’s premier dance companies and tours internationally. Don’t miss your chance to see this electrifying season opener that will make you “fall for dance” all over again this autumn. \n“PHILADANCO’s dancers are a miracle of skill and energy. They work in a range of idioms most companies don’t even try to possess…A company that can do more than just anything. It can represent the possibilities of human spirit through dance.” – Dance Magazine
URL:https://philadanco.org/event/dance-cleveland/
LOCATION:Mimi Ohio Theatre\, 1519 Euclid Ave\, Cleveland\, OH\, 44115\, United States
CATEGORIES:Performances,Touring
ATTACH;FMTTYPE=image/jpeg:https://philadanco.org/wp-content/uploads/2023/03/7SBmZff8-scaled.jpeg
END:VEVENT
BEGIN:VEVENT
DTSTART;TZID=America/New_York:20230506T193000
DTEND;TZID=America/New_York:20230506T213000
DTSTAMP:20260423T190409
CREATED:20230413T202638Z
LAST-MODIFIED:20230413T210234Z
UID:2016-1683401400-1683408600@philadanco.org
SUMMARY:Omaha Performing Arts
DESCRIPTION:Come see PHILADANCO! in Omaha! \nSaturday\, May 6th \nOmaha Performing Arts \nOrpheum Theater
URL:https://philadanco.org/event/omaha-performing-arts/
LOCATION:Orpheum Theater\, 203 S. Main Street\, Memphis\, TN\, 38103\, United States
CATEGORIES:Performances,Touring
ATTACH;FMTTYPE=image/jpeg:https://philadanco.org/wp-content/uploads/2022/09/jharris9342sm-1-1-scaled.jpg
ORGANIZER;CN="Philadanco Company":MAILTO:company.philadanco@gmail.com
END:VEVENT
BEGIN:VEVENT
DTSTART;TZID=America/New_York:20220211T193000
DTEND;TZID=America/New_York:20220213T193000
DTSTAMP:20260423T190409
CREATED:20220113T170208Z
LAST-MODIFIED:20220113T170912Z
UID:1577-1644607800-1644780600@philadanco.org
SUMMARY:Kravis Center for Performing Arts MARSHALL E. RINKER\, SR. PLAYHOUSE] WEST PALM BEACH\, FL
DESCRIPTION:Experience PHILADANCO as they unveil multiple new works from their 50th anniversary program. Critics rave about their innovation\, creativity and their dedication to showcasing African-American traditions through dance. \nMade possible by a grant from the MLDauray Arts Initiative in honor of Leonard and Sophie Davis \nDate: February 11- 13 2022 \nTime: 7:30pm\nFor more information and to buy tickets see link below:\nHTTPS://WWW.KRAVIS.ORG/EVENTS/PHILADANCO50/
URL:https://philadanco.org/event/kravis-center-for-performing-arts-marshall-e-rinker-sr-playhouse-west-palm-beach-fl/
LOCATION:PA
CATEGORIES:Performances,Touring
END:VEVENT
BEGIN:VEVENT
DTSTART;TZID=America/New_York:20220128T200000
DTEND;TZID=America/New_York:20220128T200000
DTSTAMP:20260423T190409
CREATED:20220113T162747Z
LAST-MODIFIED:20220113T170745Z
UID:1574-1643400000-1643400000@philadanco.org
SUMMARY:Strathmore Performing Arts Center- Bethesda\, MD
DESCRIPTION:Known for its innovation\, superbly trained dancers\, and electrifying performances\, PHILADANCO!\, The Philadelphia Dance Company\, celebrates 50 years as one of the premiere African American modern dance companies. \nPresenting iconic PHILADANCO! works as well as new choreography that highlights their continued engagement with today’s most important social issues\, the company continues their legacy of bridging cultural divides. New work by BaKari Lindsay will be featured and highlight Caribbean and African heritage through Malian kora music. \nThe presentation of PHILADANCO! was made possible by the New England Foundation for the Arts’ National Dance Project\, with lead funding from the Doris Duke Charitable Foundation and The Andrew W. Mellon Foundation. \n\n\nThis engagement of PHILADANCO! is funded through the Mid Atlantic Tours program of Mid Atlantic Arts with support from the National Endowment for the Arts.  \nDate: January 28\, 2022 \nTime: 8pm \nFor more information and to buy tickets see link below: \nhttps://www.strathmore.org/what-s-on/21-22-strathmore-season/philadanco/
URL:https://philadanco.org/event/strathmore-performing-arts-center-bethesda-md/
LOCATION:PA
CATEGORIES:Performances,Touring
END:VEVENT
BEGIN:VEVENT
DTSTART;TZID=America/New_York:20220121T200000
DTEND;TZID=America/New_York:20220122T200000
DTSTAMP:20260423T190409
CREATED:20220113T161332Z
LAST-MODIFIED:20220113T170636Z
UID:1572-1642795200-1642881600@philadanco.org
SUMMARY:Jarson-Kaplan Theater - Cincinnati\, OH
DESCRIPTION:Known across the world for their “brilliant mix of the miracle of skill” and “virtuoso physicality\,” PHILADANCO! makes a short return to Cincinnati ten years since their last visit. The Jefferson James Contemporary Dance Theater Series (newly renamed since CDT’s merger into Mutual Dance Theatre and Arts Centers) welcomes the 50-year-old legendary dance company\, which celebrates and preserves predominantly African American traditions in dance. Do not miss this repertory concert chock-full of both old and new favorites.\n\n\n\nDate: January 21 & 22 2022\nTime: 8pm\nFor more information an to buy tickets see link below:\n\nhttps://www.cincinnatiarts.org/events/detail/the-jefferson-james-contemporary-dance-theater-series-presents-philadanco
URL:https://philadanco.org/event/jarson-kaplan-theater-cincinnati-oh/
LOCATION:PA
CATEGORIES:Other,Performances,Touring
END:VEVENT
END:VCALENDAR